BEGIN:VCALENDAR
VERSION:2.0
PRODID:-//ChamberMaster//Event Calendar 2.0//EN
METHOD:PUBLISH
X-PUBLISHED-TTL:P3D
REFRESH-INTERVAL:P3D
CALSCALE:GREGORIAN
BEGIN:VEVENT
DTSTART;VALUE=DATE:20191009
DTEND;VALUE=DATE:20191011
TRANSP:TRANSPARENT
X-MICROSOFT-CDO-ALLDAYEVENT:TRUE
SUMMARY:Workforce Development Symposium
DESCRIPTION:The Symposium is Pennsylvania's workforce development board event that brings together over 200 policymakers\, decision-makers\, management\, administrators\, staff\, and supporters from across the Commonwealth.\n\n \n\nWorkshops are being finalized\, and a tentative agenda is available.  Attendees will be able to choose from an remarkable selection of sessions! \n\n \n\nRegister now to receive the Early Bird Rate which ends September 13.\n\n \n\nSpotlight your services\, expertise\, projects and resources to Pennsylvania's key workforce development experts\, decision-makers\, and professionals! Explore vendor exhibit and sponsorship opportunities!\n\n \n\nHotel Information\n\nFor overnight accommodations\, contact The Penn Stater Hotel & Conference Center directly at 800-233-7505 and reference WDBS19A to receive the discount rate of $126. PWDA's room block will be released on September 9\, 2019.\n\n\n\nFor more information\, visit www.pawork.org/conferences-and-training
X-ALT-DESC;FMTTYPE=text/html:<span style="color:#282622\;"><span style="font-family:corbel\,sans-serif\;"><span style="font-size:10.0pt\;">The Symposium is Pennsylvania&#39\;s workforce development board event that brings together over 200 policymakers\, decision-makers\, management\, administrators\, staff\, and supporters from across the Commonwealth.</span></span></span><br />\n&nbsp\;<br />\n<span style="color:#282622\;"><span style="font-family:corbel\,sans-serif\;"><span style="font-size:10.0pt\;">Workshops are&nbsp\;being finalized\, and a tentative agenda&nbsp\;is available.&nbsp\; Attendees will be able to choose from an remarkable selection of sessions!&nbsp\;</span></span></span><br />\n&nbsp\;<br />\n<span style="color:black\;"><span style="font-family:corbel\,sans-serif\;"><span style="font-size:10.0pt\;">Register </span></span></span><span style="color:black\;"><span style="font-family:corbel\,sans-serif\;"><span style="font-size:10.0pt\;">now to receive the Early Bird Rate which ends September 13.</span></span></span><br />\n&nbsp\;<br />\n<span style="color:black\;"><span style="font-family:corbel\,sans-serif\;"><span style="font-size:10.0pt\;">Spotlight your services\, expertise\, projects and resources to Pennsylvania&#39\;s key workforce development experts\, decision-makers\, and professionals! Explore vendor exhibit and sponsorship opportunities!</span></span></span><br />\n&nbsp\;<br />\n<strong><span style="color:#004DB4\;"><span style="font-family:corbel\,sans-serif\;">Hotel Information</span></span></strong><br />\n<span style="color:#282622\;"><span style="font-family:corbel\,sans-serif\;"><span style="font-size:10.0pt\;">For overnight accommodations\, contact The Penn Stater Hotel &amp\; Conference Center directly at 800-233-7505 and reference WDBS19A to receive the discount rate of $126. PWDA&#39\;s room block will be released on September 9\, 2019.<br />\n<br />\nFor more information\, visit www.pawork.org/conferences-and-training</span></span></span>
LOCATION:
UID:e.2675.12795
SEQUENCE:3
DTSTAMP:20260419T231238Z
URL:http://franklinareachamberpa.chambermaster.com/events/details/workforce-development-symposium-12795
END:VEVENT

END:VCALENDAR
