BEGIN:VCALENDAR
VERSION:2.0
PRODID:-//ChamberMaster//Event Calendar 2.0//EN
METHOD:PUBLISH
X-PUBLISHED-TTL:P3D
REFRESH-INTERVAL:P3D
CALSCALE:GREGORIAN
BEGIN:VEVENT
DTSTART:20180418T130000Z
DTEND:20180418T160000Z
X-MICROSOFT-CDO-ALLDAYEVENT:FALSE
SUMMARY:Why Export?
DESCRIPTION:Are you interested in expanding your sales into other countries? At this seminar\, you will learn the basics of exporting and what it means to sell internationally. Topics include:\n\n\n\n  Determining if your company is ready to export\n\n  Overview of why your company should export\n\n  Identifying good markets\n\n  Finding and screening buyers/partners\n\n  Placing everything in motion: staffing\, paperwork\, shipping\, pricing\, etc.\n\n  Resources for exporting\n\n\n\n*Following this event\, there will be another seminar\, Incoterms 2010 in Practice\, from 1:00 p.m. to 4:00 p.m. Lunch will be provided at no charge for those that wish to attend one or both events. Click here to register for the afternoon seminar.\n\n\n\nRegister Online Now or Call the Clarion University SBDC at (814) 393-2060 or Toll free at 1 (877) 292-1843 or Email: sbdc@clarion.edu\n\n\n\nSpeakers:\n\nAleshia Marshall\, Business Consultant\, Clarion University SBDC\n\nRyan Russell\, Senior International Trade Specialist\, US Commercial Service\n\nChristine Perneski\, Export Marketing Director\, North Central Commission\n\n\n\nWhen: Wednesday\, April 18\, 2018\n\n\n\nWhere: DuBois Country Club\n\n10 Lakeside Avenue\n\nDuBois\, PA 15801 Directions\n\n\n\nTime: 9:00 am to 12:00 noon\n\n\n\nCost: FREE
X-ALT-DESC;FMTTYPE=text/html:<span style="font-family:times new roman\,serif\;"><span style="font-size:12.0pt\;">Are you interested in expanding your sales into other countries? At this seminar\, you will learn the basics of exporting and what it means to sell internationally. Topics include:<br />\n<br />\n&#149\; Determining if your company is ready to export<br />\n&#149\; Overview of why your company should export<br />\n&#149\; Identifying good markets<br />\n&#149\; Finding and screening buyers/partners<br />\n&#149\; Placing everything in motion: staffing\, paperwork\, shipping\, pricing\, etc.<br />\n&#149\; Resources for exporting<br />\n<br />\n*Following this event\, there will be another seminar\, <a alt="http://clarion.edu/sbdc/training/business-workshops/2018-04-18-incoterms.aspx" href="http://r20.rs6.net/tn.jsp?f=001dXOyDgMuozosTHiO47lInBoxRw3y5ymOJyLxl7sFIlU-hHjopxS9PwRknaDmvV1Q6HXzWfH1ES5_Wb23gcq-q_lPtkE69617qDzNSllgEjYrRMIyK-E83zeRjplTdc5mrV8eN6Mks8dWVS27W7I1cL_3XBLX-CLiU7eMOAa5i2dtP56Zpn26Ak_FXMZ63UNjeGNOrY1SYxY1Gi-goqsQ6yqHc97RN4U27g772gyxlOKGWr3GzyS9pzuVN57sVERk&amp\;c=a-RYtCUSigHXoQ4aSVReRW7L2cCd_FSDZE2jkWYwVwquiWWw8n65Kw==&amp\;ch=rFIL76xPwaMxFuo954ePjF5zwh5mTe4E_eIMJzoifkISewgCVw67jw==" target="_blank">Incoterms 2010 in Practice</a>\, from 1:00 p.m. to 4:00 p.m. Lunch will be provided at no charge for those that wish to attend one or both events. Click here to register for the afternoon seminar.<br />\n<br />\n<strong><a alt="http://clarion.edu/sbdc/training/business-workshops/2018-04-18-intro-to-exporting-register.aspx" href="http://r20.rs6.net/tn.jsp?f=001dXOyDgMuozosTHiO47lInBoxRw3y5ymOJyLxl7sFIlU-hHjopxS9PwRknaDmvV1QY00Oe2M-gea6nAzMw13cyRlFQWJs5xIj1EtV_m0nJqbGnBwh_d5i-vl-FK1rISaeGT5r2c-6s470plWndCZMnjMsJpSdtOuXGeziyBU_9JxLsqUBlceVob7amFkVQCXmbsh4uomgIhqlIo5DoOZcNy2ZD2hopXMECwB6NgxvCK2waMmajmkFKaiodossOO9d-yr4aLbBBHrsxbmDkngV3A==&amp\;c=a-RYtCUSigHXoQ4aSVReRW7L2cCd_FSDZE2jkWYwVwquiWWw8n65Kw==&amp\;ch=rFIL76xPwaMxFuo954ePjF5zwh5mTe4E_eIMJzoifkISewgCVw67jw==" target="_blank">Register Online Now</a></strong> or Call the Clarion University SBDC at (814) 393-2060 or Toll free at 1 (877) 292-1843 or Email: <strong><a href="mailto:sbdc@clarion.edu?subject=Email%20Originated%20From%20Clarion%20University%20SBDC" target="_blank">sbdc@clarion.edu</a></strong><br />\n<br />\n<strong>Speakers:</strong><br />\nAleshia Marshall\, Business Consultant\, Clarion University SBDC<br />\nRyan Russell\, Senior International Trade Specialist\, US Commercial Service<br />\nChristine Perneski\, Export Marketing Director\, North Central Commission<br />\n<br />\n<strong>When:</strong> Wednesday\, April 18\, 2018<br />\n<br />\n<strong>Where:</strong> DuBois Country Club<br />\n10 Lakeside Avenue<br />\nDuBois\, PA 15801 <strong><a alt="https://goo.gl/a7S6PL" href="http://r20.rs6.net/tn.jsp?f=001dXOyDgMuozosTHiO47lInBoxRw3y5ymOJyLxl7sFIlU-hHjopxS9PwRknaDmvV1QmJaHVrphthuazWUfnnnY-oAn2mHpX3ZwQny3gXq3D-2jwaNhUNHh3vNuGMI1U8yvE-PyiQYnFZD2_iSOdgD29G2wmY4Z-QbHGagUBVBl77A=&amp\;c=a-RYtCUSigHXoQ4aSVReRW7L2cCd_FSDZE2jkWYwVwquiWWw8n65Kw==&amp\;ch=rFIL76xPwaMxFuo954ePjF5zwh5mTe4E_eIMJzoifkISewgCVw67jw==" target="_blank">Directions</a></strong><br />\n<br />\n<strong>Time:</strong> 9:00 am to 12:00 noon<br />\n<br />\n<strong>Cost:</strong> FREE</span></span><br />\n&nbsp\;
LOCATION:
UID:e.2675.8510
SEQUENCE:3
DTSTAMP:20260419T231209Z
URL:http://franklinareachamberpa.chambermaster.com/events/details/why-export-8510
END:VEVENT

END:VCALENDAR
