BEGIN:VCALENDAR
VERSION:2.0
PRODID:-//ChamberMaster//Event Calendar 2.0//EN
METHOD:PUBLISH
X-PUBLISHED-TTL:P3D
REFRESH-INTERVAL:P3D
CALSCALE:GREGORIAN
BEGIN:VEVENT
DTSTART:20260114T170000Z
DTEND:20260114T180000Z
X-MICROSOFT-CDO-ALLDAYEVENT:FALSE
SUMMARY:Getting Started with myPATH
DESCRIPTION:SDBC Getting Started with myPATH\n\nLearn how to get started with the Department of Revenue's myPATH portal\, including how to create the correct profile\, register successfully\, access personal or business accounts\, and use key features available to both logged-in and guest users.
X-ALT-DESC;FMTTYPE=text/html:<span style="font-size:14px\;"><span style="font-family:arial\;"><span style="font-size:16px\;">SDBC Getting Started with myPATH</span><br />\n<!--StartFragment--><span data-olk-copy-source="MessageBody" style="color: black\;">Learn how to get started with the Department of Revenue&rsquo\;s myPATH portal\, including how to create the correct profile\, register successfully\, access personal or business accounts\, and use key features available to both logged-in and guest users.</span></span></span><!--EndFragment-->
LOCATION:Webinar
UID:e.2675.27539
SEQUENCE:3
DTSTAMP:20260421T214329Z
URL:http://franklinareachamberpa.chambermaster.com/events/details/getting-started-with-mypath-27539
END:VEVENT

END:VCALENDAR
