BEGIN:VCALENDAR
VERSION:2.0
PRODID:-//ChamberMaster//Event Calendar 2.0//EN
METHOD:PUBLISH
X-PUBLISHED-TTL:P3D
REFRESH-INTERVAL:P3D
CALSCALE:GREGORIAN
BEGIN:VEVENT
DTSTART:20180220T163000Z
DTEND:20180220T173000Z
X-MICROSOFT-CDO-ALLDAYEVENT:FALSE
SUMMARY:Fraud Prevention Program
DESCRIPTION:A Fraud Prevention Program will be held Tuesday\, February 20th at 11:30 at the Franklin YMCA.  \n\nFree and open to the public.  \n\nA representative from the Consumer Information Task Force Team will give an overview on how to keep individuals safe from fraud and scams.
X-ALT-DESC;FMTTYPE=text/html:<span style="color:#000000\;"><strong><span style="font-family:verdana\,sans-serif\;"><span style="font-size:10.5pt\;">A Fraud Prevention Program</span></span></strong><span style="font-family:verdana\,sans-serif\;"><span style="font-size:10.5pt\;"> will be held Tuesday\, February 20th at 11:30 at the Franklin YMCA. &nbsp\;<br />\nFree and open to the public. &nbsp\;<br />\nA representative from the Consumer Information Task Force Team will give an overview on how to keep individuals safe from fraud and scams.</span></span></span>
LOCATION:Franklin YMCA
UID:e.2675.8261
SEQUENCE:3
DTSTAMP:20260419T215441Z
URL:http://franklinareachamberpa.chambermaster.com/events/details/fraud-prevention-program-8261
END:VEVENT

END:VCALENDAR
